Workbook
Name cotation: Feuil2!$A$1:$A$6
Name cotation2: Feuil2!$A$1:$A$4
Name thématiques: Feuil2!$B$19:$B$35

Sheet Mode d'emploi
A1: Se situer selon les 22 critères impératifs du référentiel HAS V2027
B2: Outil Certification HAS V2027 - HBT - V1 - Août 2026 / référence HAS : ACDC_CED_R004_L
B4: Date de l'évaluation | D4: JJ/MM/AAAA
B5: NOM DU SITE | D5: Site
B6: NOM DU SERVICE | D6: Service
A7: Mode d'emploi
A8: Pour chaque critère, une auto-évaluation est réalisée en groupe pluriprofessionnel au niveau de chaque élément d’évaluation, à partir d'un menu déroulant : - OUI : l’élément d’évaluation est totalement satisfait. - NON : l’élément d’évaluation dans son intégralité est non satisfait. - NA : l'élément d'évaluation n'est pas applicable ou pas évaluable. - RI : la réponse du patient n'est pas appropriée. Les cotations NA (Non Applicable) ou RI (Réponse Inappropriée) ne sont pas intégrées dans le calcul du score. Cette auto-évaluation permet d'obtenir un score par critère. La grille de cotation se fonde sur le Manuel de Certification HAS V2027 et précise les méthodes d'investigation utilisées : PT : Patient Traceur / PCT : Parcours Traceur / AS : Audit Système / TC : Traceur Ciblé / OBS : Observations ainsi que les cibles : PRO = Professionnel / PAT = Patient / GOUV = Gouvernance / ENCA = Encadrement Cet outil est partagé gratuitement par Les Hôpitaux du Bassin de Thau. Toute reproduction non autorisée ainsi que tout usage commercial sont interdits. © 2026 STUDIO HBT pour Les Hôpitaux du Bassin de Thau. N'hésitez pas à nous faire part de vos remarques, questions ou suggestions : Michael BESSE
B9: mbesse@ch-bassindethau.fr

Sheet Grille de cotation
B1: Outil Certification HAS V2027 - HBT - V1 - Août 2026 / référence HAS : ACDC_CED_R004_L
A2: Se situer selon les 22 critères impératifs du référentiel HAS V2027 | L2: > Résultats
A4: N° | B4: Chap. | C4: Critère impératif | D4: Score | E4: Elément d'évaluation | F4: Méthode | G4: Cible | H4: Réponse | I4: Dénominateur | J4: Score EA | K4: Somme | L4: Commentaires
A5: 1 | B5: 1 | C5: Critère 1.1-01 Le patient bénéficie du respect de son intimité et de sa dignité au sein d’un environnement sécurisé. TOUT L'ÉTABLISSEMENT | D5: =IFERROR(K5/I5,"") -> 0 | E5: Du point de vue du patient, les conditions d’accueil et de prise en charge ont respecté sa dignité et son intimité. | F5: PT | G5: PAT | I5: =(ROWS(H5:H9)-COUNTIF(H5:H9, "NA")-COUNTIF(H5:H9, "RI")) -> 5 | J5: =IF(H5="OUI", 1, IF(H5="NON", 0, IF(H5="NA", 0, IF(H5="RI", 0)))) -> FALSE | K5: =SUM(J5:J9) -> 0
E6: Du point de vue du patient, les accès extérieurs, les circulations, les locaux de consultation et d'hospitalisation, la signalétique, permettent de circuler aisément. | F6: PT | G6: PAT | J6: =IF(H6="OUI", 1, IF(H6="NON", 0, IF(H6="NA", 0, IF(H6="RI", 0)))) -> FALSE
E7: Les pratiques garantissent la dignité et l'intimité du patient. | F7: OBS | G7: OBS | J7: =IF(H7="OUI", 1, IF(H7="NON", 0, IF(H7="NA", 0, IF(H7="RI", 0)))) -> FALSE
E8: Les locaux et les équipements garantissent la dignité, l'intimité et la sécurité des patients. | F8: OBS | G8: OBS | J8: =IF(H8="OUI", 1, IF(H8="NON", 0, IF(H8="NA", 0, IF(H8="RI", 0)))) -> FALSE
E9: Les personnes, particulièrement en situation de handicap physique, mental et sensoriel, peuvent accéder à l’établissement et y circuler aisément. | F9: OBS | G9: OBS | J9: =IF(H9="OUI", 1, IF(H9="NON", 0, IF(H9="NA", 0, IF(H9="RI", 0)))) -> FALSE
A10: 2 | B10: 1 | C10: Critère 1.1-02 Le patient mineur bénéficie d’une prise en charge adaptée, continue et coordonnée intégrant ses besoins familiaux et éducatifs. TOUT L'ÉTABLISSEMENT | D10: =IFERROR(K10/I10,"") -> 0 | E10: Des solutions d’accueil, voire d'hébergement pour les hospitalisations longues ou itératives, sont proposées aux parents pour qu'ils puissent s’impliquer dans les soins 24h/24, sauf décision médicale motivée dans le projet personnalisé de soins. | F10: PT | G10: PAT | I10: =(ROWS(H10:H15)-COUNTIF(H10:H15, "NA")-COUNTIF(H10:H15, "RI")) -> 6 | J10: =IF(H10="OUI", 1, IF(H10="NON", 0, IF(H10="NA", 0, IF(H10="RI", 0)))) -> FALSE | K10: =SUM(J10:J15) -> 0
E11: Pour les hospitalisations longues et/ou itératives, une prise en charge éducative et scolaire adaptée aux besoins est proposée au mineur en lien avec ses parents. | F11: PT | G11: PAT | J11: =IF(H11="OUI", 1, IF(H11="NON", 0, IF(H11="NA", 0, IF(H11="RI", 0)))) -> FALSE
E12: Dans les services accueillant des mineurs, y compris dans un service d’adultes, les professionnels sont formés aux spécificités de cette prise en charge. | F12: PT | G12: PRO | J12: =IF(H12="OUI", 1, IF(H12="NON", 0, IF(H12="NA", 0, IF(H12="RI", 0)))) -> FALSE
E13: Lorsque le mineur atteint d’une maladie chronique entre dans la phase de transition de l’adolescence vers l’âge adulte, l'équipe pédiatrique/pédopsychiatrique se coordonne avec l'équipe prenant en charge les patients adultes afin d’assurer la continuité du parcours de soins. | F13: PCT | G13: PRO | J13: =IF(H13="OUI", 1, IF(H13="NON", 0, IF(H13="NA", 0, IF(H13="RI", 0)))) -> FALSE
E14: Avant la sortie du mineur, l'équipe met à jour son carnet de santé pour les informations utiles à son suivi. | F14: PCT | G14: PRO | J14: =IF(H14="OUI", 1, IF(H14="NON", 0, IF(H14="NA", 0, IF(H14="RI", 0)))) -> FALSE
E15: Dans les services accueillant des mineurs, y compris dans un service d’adultes, les bonnes pratiques sont appliquées : locaux respectueux de l'intimité, de la dignité et de la sécurité, activités ludiques et éducatives adaptées à l'âge… | F15: OBS | G15: OBS | J15: =IF(H15="OUI", 1, IF(H15="NON", 0, IF(H15="NA", 0, IF(H15="RI", 0)))) -> FALSE
A16: 3 | B16: 1 | C16: Critère 1.1-05 Le patient bénéficie de soins visant à anticiper ou à soulager rapidement sa douleur. TOUT L'ÉTABLISSEMENT | D16: =IFERROR(K16/I16,"") -> 0 | E16: Le patient est incité à exprimer sa douleur, dès lors qu'il la ressent ou est susceptible de la ressentir, et ce jusqu’au soulagement de la douleur et à une amélioration de son bien être et/ou de sa qualité de vie. | F16: PT | G16: PAT | I16: =(ROWS(H16:H20)-COUNTIF(H16:H20, "NA")-COUNTIF(H16:H20, "RI")) -> 5 | J16: =IF(H16="OUI", 1, IF(H16="NON", 0, IF(H16="NA", 0, IF(H16="RI", 0)))) -> FALSE | K16: =SUM(J16:J20) -> 0
E17: L'équipe trace, à l’appui d’une échelle adaptée, l'évaluation de la douleur même si le patient n'est pas douloureux. | F17: PT | G17: PRO | J17: =IF(H17="OUI", 1, IF(H17="NON", 0, IF(H17="NA", 0, IF(H17="RI", 0)))) -> FALSE
E18: Le suivi de l'efficacité de la thérapeutique repose sur des réévaluations tracées dans le dossier et les bonnes pratiques de traitement (respect des recommandations, paliers…). | F18: PT | G18: PRO | J18: =IF(H18="OUI", 1, IF(H18="NON", 0, IF(H18="NA", 0, IF(H18="RI", 0)))) -> FALSE
E19: L'équipe identifie les opportunités de substitution par des interventions non médicamenteuses, lorsque c'est adapté. | F19: PT | G19: PRO | J19: =IF(H19="OUI", 1, IF(H19="NON", 0, IF(H19="NA", 0, IF(H19="RI", 0)))) -> FALSE
E20: Les équipes améliorent leurs pratiques au regard des résultats de leurs indicateurs de prise en charge de la douleur. | F20: PCT | G20: PRO | J20: =IF(H20="OUI", 1, IF(H20="NON", 0, IF(H20="NA", 0, IF(H20="RI", 0)))) -> FALSE
A21: 4 | B21: 1 | C21: Critère 1.1-06 Le patient est protégé contre toute forme de maltraitance. TOUT L'ÉTABLISSEMENT | D21: =IFERROR(K21/I21,"") -> 0 | E21: Les maltraitances internes qui relèvent d’une infraction pénale, dont les violences sexuelles et sexistes commises contre des patients, sont déclarées aux autorités compétentes. | F21: AS | G21: GOUV | I21: =(ROWS(H21:H26)-COUNTIF(H21:H26, "NA")-COUNTIF(H21:H26, "RI")) -> 6 | J21: =IF(H21="OUI", 1, IF(H21="NON", 0, IF(H21="NA", 0, IF(H21="RI", 0)))) -> FALSE | K21: =SUM(J21:J26) -> 0
E22: Les professionnels connaissent les signes d’alerte qui peuvent indiquer qu’un patient est victime d’une maltraitance interne (psychologique, violence sexuelle, violence physique, violence obstétricale, abus de faiblesse, négligences...), à l'appui des recommandations de bonnes pratiques et d'outils permettant le repérage. | F22: AS | G22: PRO | J22: =IF(H22="OUI", 1, IF(H22="NON", 0, IF(H22="NA", 0, IF(H22="RI", 0)))) -> FALSE
E23: Les professionnels savent signaler une suspicion de maltraitances internes (psychologique, violence sexuelle, violence physique, violence obstétricale, abus de faiblesse, négligences...). | F23: AS | G23: PRO | J23: =IF(H23="OUI", 1, IF(H23="NON", 0, IF(H23="NA", 0, IF(H23="RI", 0)))) -> FALSE
E24: Les professionnels connaissent les actions à mettre en place pour protéger les patients victimes de maltraitance interne suspectée ou avérée (psychologique, violence sexuelle, violence physique, violence obstétricale, abus de faiblesse, négligences...). | F24: AS | G24: PRO | J24: =IF(H24="OUI", 1, IF(H24="NON", 0, IF(H24="NA", 0, IF(H24="RI", 0)))) -> FALSE
E25: Du point de vue du patient, les pratiques professionnelles sont bientraitantes (réponses aux besoins élémentaires, les intervenants se présentent, portes de chambres fermées...) même en situation de tension d'activité. | F25: PT | G25: PAT | J25: =IF(H25="OUI", 1, IF(H25="NON", 0, IF(H25="NA", 0, IF(H25="RI", 0)))) -> FALSE
E26: L'autonomie du patient pour ses besoins élémentaires (repas, hydratation, hygiène corporelle, habillage, élimination, mobilité...) est évaluée tout au long de son séjour. | F26: PT | G26: PRO | J26: =IF(H26="OUI", 1, IF(H26="NON", 0, IF(H26="NA", 0, IF(H26="RI", 0)))) -> FALSE
A27: 5 | B27: 1 | C27: Critère 1.2-07 Le patient est informé de tout évènement indésirable associé aux soins dans une démarche de transparence fondée sur sa déclaration et son analyse. TOUT L'ÉTABLISSEMENT | D27: =IFERROR(K27/I27,"") -> 0 | E27: Les professionnels chargés d'annoncer un dommage associé aux soins ont bénéficié d'une formation aux bonnes pratiques d’annonce. | F27: TC | G27: PRO | I27: =(ROWS(H27:H32)-COUNTIF(H27:H32, "NA")-COUNTIF(H27:H32, "RI")) -> 6 | J27: =IF(H27="OUI", 1, IF(H27="NON", 0, IF(H27="NA", 0, IF(H27="RI", 0)))) -> FALSE | K27: =SUM(J27:J32) -> 0
E28: Le patient, et ses proches s’il le souhaite, est informé, de préférence dans les 24h et sans dépasser les 15 jours, de l’évènement indésirable associé aux soins, de ses conséquences et des mesures immédiates prises. | F28: TC | G28: PRO | J28: =IF(H28="OUI", 1, IF(H28="NON", 0, IF(H28="NA", 0, IF(H28="RI", 0)))) -> FALSE
E29: Pour tout évènement indésirable associé aux soins, le patient, et ses proches lorsqu’il le souhaite, reçoit une information sur le plan de soin de suivi et les recours possibles. | F29: TC | G29: PRO | J29: =IF(H29="OUI", 1, IF(H29="NON", 0, IF(H29="NA", 0, IF(H29="RI", 0)))) -> FALSE
E30: Du point de vue de l’équipe, la gouvernance promeut une culture positive, juste et non punitive de l’erreur. | F30: TC | G30: PRO | J30: =IF(H30="OUI", 1, IF(H30="NON", 0, IF(H30="NA", 0, IF(H30="RI", 0)))) -> FALSE
E31: Pour chaque EIGS, une analyse des causes profondes, réalisée selon une méthode reconnue par la HAS et associant les professionnels concernés, conduit à des modifications organisationnelles ou de pratiques. | F31: TC | G31: PRO | J31: =IF(H31="OUI", 1, IF(H31="NON", 0, IF(H31="NA", 0, IF(H31="RI", 0)))) -> FALSE
E32: Chaque EIGS est déclaré sur le portail national de signalement, avec un volet 2 déposé dans un délai maximal de trois mois après le volet 1. | F32: TC | G32: PRO | J32: =IF(H32="OUI", 1, IF(H32="NON", 0, IF(H32="NA", 0, IF(H32="RI", 0)))) -> FALSE
A33: 6 | B33: 1 | C33: Critère 1.3-01 Le patient exprime son consentement libre et éclairé sur son projet de soins personnalisé et ses modalités de prise en charge. TOUT L'ÉTABLISSEMENT | D33: =IFERROR(K33/I33,"") -> 0 | E33: Pour consentir à son projet personnalisé de soins, les différentes options, notamment thérapeutiques, leurs bénéfices et leurs risques, sont présentées au patient pour qu’il exprime ses préférences et besoins en prenant en compte ses conditions de vie habituelles, ses capacités et ses vulnérabilités. | F33: PT | G33: PAT | I33: =(ROWS(H33:H38)-COUNTIF(H33:H38, "NA")-COUNTIF(H33:H38, "RI")) -> 6 | J33: =IF(H33="OUI", 1, IF(H33="NON", 0, IF(H33="NA", 0, IF(H33="RI", 0)))) -> FALSE | K33: =SUM(J33:J38) -> 0
E34: Du point de vue du patient, son expérience sur sa maladie et son état de santé est prise en compte pour adapter son projet personnalisé de soins (parcours et traitements). | F34: PT | G34: PAT | J34: =IF(H34="OUI", 1, IF(H34="NON", 0, IF(H34="NA", 0, IF(H34="RI", 0)))) -> FALSE
E35: Pour établir un projet personnalisé de soins, une évaluation globale initiale (médicale, psychologique, sociale, autonomie, rééducation) du patient est effectuée par des professionnels impliquant les disciplines concernées et la contribution des soins de support. | F35: PT | G35: PRO | J35: =IF(H35="OUI", 1, IF(H35="NON", 0, IF(H35="NA", 0, IF(H35="RI", 0)))) -> FALSE
E36: Les modalités de mise en œuvre du projet personnalisé de soins, notamment lorsqu'elles incluent des restrictions de libertés, sont justifiées et individualisées selon l'état de santé du patient. | F36: PT | G36: PRO | J36: =IF(H36="OUI", 1, IF(H36="NON", 0, IF(H36="NA", 0, IF(H36="RI", 0)))) -> FALSE
E37: Selon l’évolution de l’évaluation initiale et/ou d'une dégradation potentielle de la santé, y compris mentale, de sa vulnérabilité, des besoins et des préférences du patient, le projet personnalisé de soins est adapté. | F37: PT | G37: PRO | J37: =IF(H37="OUI", 1, IF(H37="NON", 0, IF(H37="NA", 0, IF(H37="RI", 0)))) -> FALSE
E38: Une synthèse des objectifs de prise en charge, issue du projet personnalisé de soins, est accessible dans le dossier. | F38: PT | G38: PRO | J38: =IF(H38="OUI", 1, IF(H38="NON", 0, IF(H38="NA", 0, IF(H38="RI", 0)))) -> FALSE
A39: 7 | B39: 1 | C39: Critère 1.4-02 La satisfaction et l'expérience du patient sont prises en compte. TOUT L'ÉTABLISSEMENT | D39: =IFERROR(K39/I39,"") -> 0 | E39: L'établissement améliore la participation de ses patients aux enquêtes de satisfaction et d'expérience des patients : amélioration des taux de remise des questionnaires internes, amélioration des taux de retours des patients, amélioration des collectes et transmission des adresses mails des patients pour e-Satis... | F39: AS | G39: GOUV | I39: =(ROWS(H39:H44)-COUNTIF(H39:H44, "NA")-COUNTIF(H39:H44, "RI")) -> 6 | J39: =IF(H39="OUI", 1, IF(H39="NON", 0, IF(H39="NA", 0, IF(H39="RI", 0)))) -> FALSE | K39: =SUM(J39:J44) -> 0
E40: La gouvernance pilote les actions d’amélioration issues de l’analyse des résultats de la satisfaction et de l’expérience des patients ainsi que la contribution des représentants des usagers. | F40: AS | G40: GOUV | J40: =IF(H40="OUI", 1, IF(H40="NON", 0, IF(H40="NA", 0, IF(H40="RI", 0)))) -> FALSE
E41: Les équipes des unités de soins ou plateaux techniques disposent de questionnaires sur l’expérience des patients (PREMS) : e-Satis, enquêtes de satisfaction... | F41: AS | G41: PRO | J41: =IF(H41="OUI", 1, IF(H41="NON", 0, IF(H41="NA", 0, IF(H41="RI", 0)))) -> FALSE
...

Sheet Résultats
A4: Critère impératif | C4: Score
A5: 1 | B5: Intimité / Dignité | C5: ='Grille de cotation'!D5 -> 0
A6: 2 | B6: PEC du patient mineur | C6: ='Grille de cotation'!D10 -> 0
A7: 3 | B7: PEC de la douleur | C7: ='Grille de cotation'!D16 -> 0
A8: 4 | B8: Lutte contre la maltraitance | C8: ='Grille de cotation'!D21 -> 0
A9: 5 | B9: Information du patient sur les EI liés aux soins | C9: ='Grille de cotation'!D27 -> 0
A10: 6 | B10: Consentement libre et éclairé | C10: ='Grille de cotation'!D33 -> 0
A11: 7 | B11: Satisfaction / Expérience Patient | C11: ='Grille de cotation'!D39 -> 0
A12: 8 | B12: Examen somatique en Psychiatrie | C12: ='Grille de cotation'!D45 -> 0
A13: 9 | B13: BP Prescription médicaments | C13: ='Grille de cotation'!D49 -> 0
A14: 10 | B14: BP Administration médicaments | C14: ='Grille de cotation'!D53 -> 0
A15: 11 | B15: Prévention erreurs médicamenteuses | C15: ='Grille de cotation'!D58 -> 0
A16: 12 | B16: Précautions standard d'Hygiène | C16: ='Grille de cotation'!D62 -> 0
A17: 13 | B17: PEC des urgences vitales | C17: ='Grille de cotation'!D68 -> 0
A18: 14 | B18: Risque infectieux en secteurs interventionnels | C18: ='Grille de cotation'!D74 -> 0
A19: 15 | B19: Analyse de la check-list au bloc opératoire | C19: ='Grille de cotation'!D80 -> 0
A20: 16 | B20: Prévention des risques obstétricaux majeurs | C20: ='Grille de cotation'!D84 -> 0
A21: 17 | B21: PEC du nouveau-né | C21: ='Grille de cotation'!D90 -> 0
A22: 18 | B22: BP Isolement en Psychiatrie | C22: ='Grille de cotation'!D96 -> 0
A23: 19 | B23: Pertinence des prescriptions ATB | C23: ='Grille de cotation'!D102 -> 0
A24: 20 | B24: Maîtrise situations sanitaires exceptionnelles | C24: ='Grille de cotation'!D107 -> 0
A25: 21 | B25: Prévention et gestion des VSS | C25: ='Grille de cotation'!D112 -> 0
A26: 22 | B26: Prévention passage personnes âgées aux urgences | C26: ='Grille de cotation'!D117 -> 0
B29: Score global | C29: =AVERAGE(C5:C26) -> 0
B30: Taux de critères impératifs avec score = 100% | C30: =COUNTIF(C5:C26,"100%")/COUNT(C5:C26) -> 0
B31: Taux de critères impératifs avec score ≥ 80% | C31: =COUNTIF(C5:C26,">=80%")/COUNT(C5:C26) -> 0
B32: Taux de critères impératifs avec score < 80% | C32: =COUNTIF(C5:C26,"<80%")/COUNT(C5:C26) -> 1

Sheet Plan d'action
A1: Plan d'action
A2: Service : | F2: > Revenir à l'accueil
A3: Date : | F3: > Résultats
A5: Thématique | B5: écart constaté | C5: action corrective proposée | D5: pilote | E5: échéance | F5: commentaires

Sheet Feuil2
A1: OUI
A2: NON
A3: NA
A4: RI
